BEGIN:VCALENDAR
VERSION:2.0
PRODID:icalendar-ruby
CALSCALE:GREGORIAN
METHOD:PUBLISH
BEGIN:VEVENT
DTSTAMP:20260422T021336Z
UID:16-418462@zionowego.org
DTSTART:20261025T120000Z
DTEND:20261025T130000Z
CLASS:PUBLIC
CREATED:20260421T203142
DESCRIPTION:God comes among us to serve us His gifts of forgiveness\, life\
 , and salvation by giving us Jesus and His Spirit through Word and Sacrame
 nt in the Divine Service.\nIf this is your first time at Zion\, check out 
 the "I'm new" page to get an idea of what to expect.\nServices are streame
 d live here on our site and on our Facebook page.
LAST-MODIFIED:20260421T203142
LOCATION:Zion's Sanctuary
SUMMARY:Divine Service
URL;VALUE=URI:https://zionowego.org/events/divine-service/2026-10-25
ATTACH;FILENAME=worship 4.JPG;FMTTYPE=image/jpeg:https://dq5pwpg1q8ru0.clou
 dfront.net/2023/05/24/19/47/10/5f2bf2bd-2fe3-40b5-88f4-a79e28953636/worshi
 p%204.JPG
END:VEVENT
END:VCALENDAR
